BEGIN:VCALENDAR
VERSION:2.0
PRODID:-// - ECPv5.2.1//NONSGML v1.0//EN
CALSCALE:GREGORIAN
METHOD:PUBLISH
X-ORIGINAL-URL:https://www.abbaye-du-val-dieu.be
X-WR-CALDESC:évènements pour 
BEGIN:VTIMEZONE
TZID:Europe/Paris
BEGIN:DAYLIGHT
TZOFFSETFROM:+0100
TZOFFSETTO:+0200
TZNAME:CEST
DTSTART:20160327T010000
END:DAYLIGHT
BEGIN:STANDARD
TZOFFSETFROM:+0200
TZOFFSETTO:+0100
TZNAME:CET
DTSTART:20161030T010000
END:STANDARD
END:VTIMEZONE
BEGIN:VEVENT
DTSTART;VALUE=DATE:20160801
DTEND;VALUE=DATE:20160829
DTSTAMP:20260419T170934
CREATED:20160531T101353Z
LAST-MODIFIED:20160805T122549Z
UID:7875-1470009600-1472428799@www.abbaye-du-val-dieu.be
SUMMARY:Visites guidées de l'Abbaye et de la Brasserie
DESCRIPTION:Du 29 juillet au 28 août 2016\, des visites guidées de l’Abbaye et de la Brasserie (avec dégustation) sont organisées tous les jours à 15h30.\nDurée : 2 heures.  Prix 12 EUR / personne \nDes visites de l’Abbaye seront également organisées tous les jours à 18h00 (sauf les jeudis).\nDurée : 1 heure.  Prix 6 EUR / personne. \nLa visite de la brasserie seule à lui également chaque jour à 16h30.\nDurée 1h15.  Prix 7 EUR  / personne + dégustation. \nLes billets sont en vente au magasin de l’Abbaye. \n 
URL:https://www.abbaye-du-val-dieu.be/fr/agenda/visite-guidee-de-labbaye-de-brasserie/
ATTACH;FMTTYPE=image/jpeg:https://www.abbaye-du-val-dieu.be/wp-content/uploads/2016/02/2585-27-Bie¦Çre-et-fromage.jpg
END:VEVENT
END:VCALENDAR