BEGIN:VCALENDAR
VERSION:2.0
PRODID:-// - ECPv5.2.1//NONSGML v1.0//EN
CALSCALE:GREGORIAN
METHOD:PUBLISH
X-ORIGINAL-URL:https://www.abbaye-du-val-dieu.be
X-WR-CALDESC:évènements pour 
BEGIN:VTIMEZONE
TZID:Europe/Paris
BEGIN:DAYLIGHT
TZOFFSETFROM:+0100
TZOFFSETTO:+0200
TZNAME:CEST
DTSTART:20160327T010000
END:DAYLIGHT
BEGIN:STANDARD
TZOFFSETFROM:+0200
TZOFFSETTO:+0100
TZNAME:CET
DTSTART:20161030T010000
END:STANDARD
END:VTIMEZONE
BEGIN:VEVENT
DTSTART;TZID=Europe/Paris:20160812T193000
DTEND;TZID=Europe/Paris:20160815T160000
DTSTAMP:20260420T093842
CREATED:20160811T123825Z
LAST-MODIFIED:20160811T123825Z
UID:8077-1471030200-1471276800@www.abbaye-du-val-dieu.be
SUMMARY:Spectacle "paroles d'humanité"
DESCRIPTION:Lecture Théâtralisée et musicale des textes de Bernard de Clervaux “Paroles d’humanité”.  Ce spectacle a été créé pour fêter les 900 ans de l’arrivée de Bernard de Clervaux à Cîteaux.  Spectacle dans la Basilique de l’Abbaye du Val-Dieu. \nVendredi 12/8 à 19h30\, Dimanche 14/8 à 19h30 et Lundi 15/8 à 15h. \nEntrée 10 EUR
URL:https://www.abbaye-du-val-dieu.be/fr/agenda/spectacle-paroles-dhumanite/
ATTACH;FMTTYPE=image/jpeg:https://www.abbaye-du-val-dieu.be/wp-content/uploads/2016/08/Photo-spectacle.jpg
END:VEVENT
END:VCALENDAR