BEGIN:VCALENDAR
VERSION:2.0
PRODID:-// - ECPv5.2.1//NONSGML v1.0//EN
CALSCALE:GREGORIAN
METHOD:PUBLISH
X-ORIGINAL-URL:https://www.abbaye-du-val-dieu.be
X-WR-CALDESC:évènements pour 
BEGIN:VTIMEZONE
TZID:Europe/Paris
BEGIN:DAYLIGHT
TZOFFSETFROM:+0100
TZOFFSETTO:+0200
TZNAME:CEST
DTSTART:20160327T010000
END:DAYLIGHT
BEGIN:STANDARD
TZOFFSETFROM:+0200
TZOFFSETTO:+0100
TZNAME:CET
DTSTART:20161030T010000
END:STANDARD
END:VTIMEZONE
BEGIN:VEVENT
DTSTART;VALUE=DATE:20160801
DTEND;VALUE=DATE:20160829
DTSTAMP:20260420T032927
CREATED:20160412T135326Z
LAST-MODIFIED:20160804T101634Z
UID:7838-1470009600-1472428799@www.abbaye-du-val-dieu.be
SUMMARY:Spectacle son et lumière "Les 800 reflets"
DESCRIPTION:SPECTACLE SON & LUMIÈRE DE TYPE VIDÉO-MAPPING\nDans le cadre des 800 ans de l’Abbaye du Val-Dieu\, à Aubel\, Tour des Sites Organisation propose un spectacle Son & Lumière surprenant mettant en évidence tous les contours architecturaux de la basilique du Val-Dieu. Les huit cents années d’histoire de cette Abbaye seront évoquées à grands renforts de fresques féeriques et d’illusions d’optique projetées sur la façade du noble édifice. Après le franc succès des « Mystères de la Crypte »\, qui avait rassemblé quelque 56.000 personnes dans la Cour intérieure de l’Abbaye en août 2013\, c’est un spectacle d’une autre dimension et aux effets époustouflants qui placera sous les feux de la rampe un des éléments architecturaux les plus emblématiques de cette Abbaye séculaire !\nConcept : Son & Lumière historico-fantastique\nTous les soirs à 22h30 du 29 juillet au 28 août 2016 – Entrée gratuite\nInformation : www.tourdessites.be ou 02/736.01.04
URL:https://www.abbaye-du-val-dieu.be/fr/agenda/spectacle-lumiere-800-reflets/
ATTACH;FMTTYPE=image/jpeg:https://www.abbaye-du-val-dieu.be/wp-content/uploads/2016/04/Affiche-spectacle-sonlumière-2-Copie.jpg
END:VEVENT
END:VCALENDAR