BEGIN:VCALENDAR
VERSION:2.0
PRODID:-// - ECPv5.2.1//NONSGML v1.0//EN
CALSCALE:GREGORIAN
METHOD:PUBLISH
X-ORIGINAL-URL:https://www.abbaye-du-val-dieu.be
X-WR-CALDESC:évènements pour 
BEGIN:VTIMEZONE
TZID:Europe/Paris
BEGIN:DAYLIGHT
TZOFFSETFROM:+0100
TZOFFSETTO:+0200
TZNAME:CEST
DTSTART:20160327T010000
END:DAYLIGHT
BEGIN:STANDARD
TZOFFSETFROM:+0200
TZOFFSETTO:+0100
TZNAME:CET
DTSTART:20161030T010000
END:STANDARD
END:VTIMEZONE
BEGIN:VEVENT
DTSTART;TZID=Europe/Paris:20160321T080000
DTEND;TZID=Europe/Paris:20160328T230000
DTSTAMP:20260426T010205
CREATED:20160216T114107Z
LAST-MODIFIED:20160329T111335Z
UID:6925-1458547200-1459206000@www.abbaye-du-val-dieu.be
SUMMARY:Préparation à la liturgie de chaque jour  de la Semaine Sainte
DESCRIPTION:Lundi Saint ( 21 mars ) – Mardi Saint ( 22 mars ) – Mercredi Saint ( 23 mars ) \n” Préparation à la liturgie de chaque jour de la Semaine Sainte” \n8H00 : Laudes\n11H00 : EUCHARISTIE\n17H00 : Vêpres\n19H30 : ENSEIGNEMENT + Complies
URL:https://www.abbaye-du-val-dieu.be/fr/agenda/preparation-a-la-liturgie-de-chaque-jour-de-la-semaine-sainte/
END:VEVENT
END:VCALENDAR