BEGIN:VCALENDAR
VERSION:2.0
PRODID:-// - ECPv5.2.1//NONSGML v1.0//EN
CALSCALE:GREGORIAN
METHOD:PUBLISH
X-ORIGINAL-URL:https://www.abbaye-du-val-dieu.be
X-WR-CALDESC:évènements pour 
BEGIN:VTIMEZONE
TZID:Europe/Paris
BEGIN:DAYLIGHT
TZOFFSETFROM:+0100
TZOFFSETTO:+0200
TZNAME:CEST
DTSTART:20160327T010000
END:DAYLIGHT
BEGIN:STANDARD
TZOFFSETFROM:+0200
TZOFFSETTO:+0100
TZNAME:CET
DTSTART:20161030T010000
END:STANDARD
END:VTIMEZONE
BEGIN:VEVENT
DTSTART;VALUE=DATE:20160801
DTEND;VALUE=DATE:20160827
DTSTAMP:20260419T220254
CREATED:20160425T125713Z
LAST-MODIFIED:20160805T123052Z
UID:7854-1470009600-1472255999@www.abbaye-du-val-dieu.be
SUMMARY:Promenade contée : l'homme qui plantait des arbres
DESCRIPTION:Venez découvrir une belle aventure pleine de tendresse et de générosité\, venez écouter la merveilleuse histoire d’un « athlète de Dieu »\, un berger qui a fait revivre sa région située en Haute Provence\, entre 1913 et 1947\, en parcourant inlassablement les étendues arides et en y plantant des arbres\, principalement des chênes…\nD’après le conte “l’homme qui plantait des arbres” de Jean Giono. \nTous les vendredis du 29/7 au 26/8 à 17h00 dans le parc de l’Abbaye.\n6 EUR pour les adultes et 3 EUR pour les enfants.
URL:https://www.abbaye-du-val-dieu.be/fr/agenda/pr/
ATTACH;FMTTYPE=image/jpeg:https://www.abbaye-du-val-dieu.be/wp-content/uploads/2016/04/Lhomme-qui-plantait-des-arbres.jpg
END:VEVENT
END:VCALENDAR