BEGIN:VCALENDAR
VERSION:2.0
PRODID:-// - ECPv5.2.1//NONSGML v1.0//EN
CALSCALE:GREGORIAN
METHOD:PUBLISH
X-ORIGINAL-URL:https://www.abbaye-du-val-dieu.be
X-WR-CALDESC:évènements pour 
BEGIN:VTIMEZONE
TZID:Europe/Paris
BEGIN:DAYLIGHT
TZOFFSETFROM:+0100
TZOFFSETTO:+0200
TZNAME:CEST
DTSTART:20180325T010000
END:DAYLIGHT
BEGIN:STANDARD
TZOFFSETFROM:+0200
TZOFFSETTO:+0100
TZNAME:CET
DTSTART:20181028T010000
END:STANDARD
END:VTIMEZONE
BEGIN:VEVENT
DTSTART;TZID=Europe/Paris:20180201T080000
DTEND;TZID=Europe/Paris:20180403T080000
DTSTAMP:20260419T180646
CREATED:20180122T130814Z
LAST-MODIFIED:20180325T190056Z
UID:8603-1517472000-1522742400@www.abbaye-du-val-dieu.be
SUMMARY:Pâques 2018\,
DESCRIPTION:Vivre la semaine sainte avec la communauté\nSuivant la mètèo\,  les offices peuvent être célébrés dans l’oratoire Saint Bernard (Chauffé) \nFléchage dans la Basilique \n  \n  \n  \n  \n  \n  \n  \n 
URL:https://www.abbaye-du-val-dieu.be/fr/agenda/paques-2018/
ATTACH;FMTTYPE=image/jpeg:https://www.abbaye-du-val-dieu.be/wp-content/uploads/2018/03/paques-20181-e1552311681777.jpg
END:VEVENT
END:VCALENDAR