BEGIN:VCALENDAR
VERSION:2.0
PRODID:-// - ECPv5.2.1//NONSGML v1.0//EN
CALSCALE:GREGORIAN
METHOD:PUBLISH
X-ORIGINAL-URL:https://www.abbaye-du-val-dieu.be
X-WR-CALDESC:évènements pour 
BEGIN:VTIMEZONE
TZID:Europe/Paris
BEGIN:DAYLIGHT
TZOFFSETFROM:+0100
TZOFFSETTO:+0200
TZNAME:CEST
DTSTART:20180325T010000
END:DAYLIGHT
BEGIN:STANDARD
TZOFFSETFROM:+0200
TZOFFSETTO:+0100
TZNAME:CET
DTSTART:20181028T010000
END:STANDARD
END:VTIMEZONE
BEGIN:VEVENT
DTSTART;TZID=Europe/Paris:20180209T080000
DTEND;TZID=Europe/Paris:20180214T200000
DTSTAMP:20260419T234520
CREATED:20180209T163910Z
LAST-MODIFIED:20180210T085820Z
UID:8584-1518163200-1518638400@www.abbaye-du-val-dieu.be
SUMMARY:14/02/2018 MERCREDI DES CENDRES
DESCRIPTION:A 18H00\nMERCREDI \,\n14 FEVRIER  2018\,\nDANS L’ ORATOIRE\nSAINT BERNARD\n(chauffé)\nBénédiction\net imposition\nDES CENDRES.\nDébut du chemin\nvers les\nfêtes pascales.\n( suivre le fléchage\ndans la Basilique)
URL:https://www.abbaye-du-val-dieu.be/fr/agenda/mercredi-des-cendres/
ATTACH;FMTTYPE=image/jpeg:https://www.abbaye-du-val-dieu.be/wp-content/uploads/2018/02/mercredi-des-cendres.jpg
END:VEVENT
END:VCALENDAR