BEGIN:VCALENDAR
VERSION:2.0
PRODID:-// - ECPv5.2.1//NONSGML v1.0//EN
CALSCALE:GREGORIAN
METHOD:PUBLISH
X-ORIGINAL-URL:https://www.abbaye-du-val-dieu.be
X-WR-CALDESC:évènements pour 
BEGIN:VTIMEZONE
TZID:Europe/Paris
BEGIN:DAYLIGHT
TZOFFSETFROM:+0100
TZOFFSETTO:+0200
TZNAME:CEST
DTSTART:20160327T010000
END:DAYLIGHT
BEGIN:STANDARD
TZOFFSETFROM:+0200
TZOFFSETTO:+0100
TZNAME:CET
DTSTART:20161030T010000
END:STANDARD
END:VTIMEZONE
BEGIN:VEVENT
DTSTART;TZID=Europe/Paris:20160711T090000
DTEND;TZID=Europe/Paris:20160715T170000
DTSTAMP:20260420T094327
CREATED:20160701T125230Z
LAST-MODIFIED:20160701T130218Z
UID:7922-1468227600-1468602000@www.abbaye-du-val-dieu.be
SUMMARY:EXPOSITION D' ICÔNES .
DESCRIPTION:A l’orée du Parc\, venez découvrir l’exposition et la démonstration d ‘écriture  d’icônes. (gratuit) \nOuverture tous les jours du 11 juillet au 15 juillet de 9H30 à 17H00. \nPour vous inscrire au stage d’écriture d’icônes ( même débutant)  : renseignements et téléphone: 0494.40.52.69   \nEntrée par le parc ( fléchage )
URL:https://www.abbaye-du-val-dieu.be/fr/agenda/icones-exposition/
LOCATION:Abbaye du Val-Dieu\, Val-Dieu\, 227\, Aubel\, 4880\, Belgique
ATTACH;FMTTYPE=image/jpeg:https://www.abbaye-du-val-dieu.be/wp-content/uploads/2016/02/vierge-de-caresse-2-e1486930020508.jpg
END:VEVENT
END:VCALENDAR