BEGIN:VCALENDAR
VERSION:2.0
PRODID:-// - ECPv5.2.1//NONSGML v1.0//EN
CALSCALE:GREGORIAN
METHOD:PUBLISH
X-ORIGINAL-URL:https://www.abbaye-du-val-dieu.be
X-WR-CALDESC:évènements pour 
BEGIN:VTIMEZONE
TZID:Europe/Paris
BEGIN:DAYLIGHT
TZOFFSETFROM:+0100
TZOFFSETTO:+0200
TZNAME:CEST
DTSTART:20180325T010000
END:DAYLIGHT
BEGIN:STANDARD
TZOFFSETFROM:+0200
TZOFFSETTO:+0100
TZNAME:CET
DTSTART:20181028T010000
END:STANDARD
END:VTIMEZONE
BEGIN:VEVENT
DTSTART;TZID=Europe/Paris:20181214T200000
DTEND;TZID=Europe/Paris:20181214T220000
DTSTAMP:20260420T163940
CREATED:20180920T085122Z
LAST-MODIFIED:20180926T074117Z
UID:8747-1544817600-1544824800@www.abbaye-du-val-dieu.be
SUMMARY:Gospel for Life au profit de l'association Niolo
DESCRIPTION:Soirée GOSPEL  for life au profit de l’association Niolo. \nLe vendredi 14 décembre 2018 à 20h dans la Basilique de l’Abbaye du Val-Dieu. \nInfo et réservation : 0479/35.01.09 \nPrix des places : 25 EUR en prévente \nVous pouvez également vous inscrire comme choristes sur le site www.glf.070.be
URL:https://www.abbaye-du-val-dieu.be/fr/agenda/gospel-for-life-profit-de-lasbl-niolo/
ATTACH;FMTTYPE=image/png:https://www.abbaye-du-val-dieu.be/wp-content/uploads/2018/09/Gospel-for-life.png
END:VEVENT
END:VCALENDAR