BEGIN:VCALENDAR
VERSION:2.0
PRODID:-// - ECPv5.2.1//NONSGML v1.0//EN
CALSCALE:GREGORIAN
METHOD:PUBLISH
X-ORIGINAL-URL:https://www.abbaye-du-val-dieu.be
X-WR-CALDESC:évènements pour 
BEGIN:VTIMEZONE
TZID:Europe/Paris
BEGIN:DAYLIGHT
TZOFFSETFROM:+0100
TZOFFSETTO:+0200
TZNAME:CEST
DTSTART:20160327T010000
END:DAYLIGHT
BEGIN:STANDARD
TZOFFSETFROM:+0200
TZOFFSETTO:+0100
TZNAME:CET
DTSTART:20161030T010000
END:STANDARD
END:VTIMEZONE
BEGIN:VEVENT
DTSTART;TZID=Europe/Paris:20160605T133000
DTEND;TZID=Europe/Paris:20160605T170000
DTSTAMP:20260425T125140
CREATED:20160524T132728Z
LAST-MODIFIED:20160524T132728Z
UID:7866-1465133400-1465146000@www.abbaye-du-val-dieu.be
SUMMARY:Exposition du SAJA "Les Alizés"
DESCRIPTION:A l’occasion du 800ème anniversaire de l’Abbaye\, les ateliers créatifs du SAJA ‘Les Alizés’ ont travaillé sur ce thème et sont heureux de vous inviter à leur exposition. Leur travail sera visible dans la salle de la grande hôtellerie lors des repas après-concerts.\nL’exposition sera également ouverte au public le dimanche 5 juin de 13h30 à 17h00 en présence de certains artistes.\nLe SAJA « les Alizés » est un service d’accueil de jour pour personnes adultes présentant une déficience intellectuelle. Il se veut un lieu d’accueil au sein duquel chaque personne doit pouvoir trouver sa place grâce à toute une série d’activités qui lui sont proposées et un encadrement sur mesure.
URL:https://www.abbaye-du-val-dieu.be/fr/agenda/exposition/
ATTACH;FMTTYPE=image/jpeg:https://www.abbaye-du-val-dieu.be/wp-content/uploads/2016/05/valdieu_alizes.jpg
END:VEVENT
END:VCALENDAR