BEGIN:VCALENDAR
VERSION:2.0
PRODID:-// - ECPv5.2.1//NONSGML v1.0//EN
CALSCALE:GREGORIAN
METHOD:PUBLISH
X-ORIGINAL-URL:https://www.abbaye-du-val-dieu.be
X-WR-CALDESC:évènements pour 
BEGIN:VTIMEZONE
TZID:Europe/Paris
BEGIN:DAYLIGHT
TZOFFSETFROM:+0100
TZOFFSETTO:+0200
TZNAME:CEST
DTSTART:20190331T010000
END:DAYLIGHT
BEGIN:STANDARD
TZOFFSETFROM:+0200
TZOFFSETTO:+0100
TZNAME:CET
DTSTART:20191027T010000
END:STANDARD
END:VTIMEZONE
BEGIN:VEVENT
DTSTART;TZID=Europe/Paris:20190420T110000
DTEND;TZID=Europe/Paris:20190422T180000
DTSTAMP:20260421T053139
CREATED:20190411T134123Z
LAST-MODIFIED:20190411T134123Z
UID:8937-1555758000-1555956000@www.abbaye-du-val-dieu.be
SUMMARY:Exposition "Liliane Bourgeois et ses visages"
DESCRIPTION:L’exposition de Liliane Bourgeois et ses visages rassemblera une quarantaine de ses œuvres.\nElle peint des portraits\, des regards\, des personnages forts et puissants en émotions\, et elle croit avoir trouvé sa voie en peignant des portraits dont la plupart laissent libre cours à l’imagination\,  de par leur ambiguïté.\nSon travail est inspiré par la notion que l’art est fait pour perturber la conscience.\nExposition visible du samedi 20 avril au lundi 22 avril (de 11h à 18h) dans le château de l’abbaye du Val-Dieu.
URL:https://www.abbaye-du-val-dieu.be/fr/agenda/exposition-liliane-bourgeois-visages/
ATTACH;FMTTYPE=image/png:https://www.abbaye-du-val-dieu.be/wp-content/uploads/2019/04/Bourgeois-expo.png
END:VEVENT
END:VCALENDAR