BEGIN:VCALENDAR
VERSION:2.0
PRODID:-// - ECPv5.2.1//NONSGML v1.0//EN
CALSCALE:GREGORIAN
METHOD:PUBLISH
X-ORIGINAL-URL:https://www.abbaye-du-val-dieu.be
X-WR-CALDESC:évènements pour 
BEGIN:VTIMEZONE
TZID:Europe/Paris
BEGIN:DAYLIGHT
TZOFFSETFROM:+0100
TZOFFSETTO:+0200
TZNAME:CEST
DTSTART:20160327T010000
END:DAYLIGHT
BEGIN:STANDARD
TZOFFSETFROM:+0200
TZOFFSETTO:+0100
TZNAME:CET
DTSTART:20161030T010000
END:STANDARD
END:VTIMEZONE
BEGIN:VEVENT
DTSTART;TZID=Europe/Paris:20160329T080000
DTEND;TZID=Europe/Paris:20160512T200000
DTSTAMP:20260426T005744
CREATED:20160329T112022Z
LAST-MODIFIED:20160329T112022Z
UID:7712-1459238400-1463083200@www.abbaye-du-val-dieu.be
SUMMARY:Exposition du Chemin de Croix d'André Simar
DESCRIPTION:Exposition des 15 stations du chemins de croix revisitées au travers de ses peintures par André SIMAR\, dans la Basilique\, tous les jours jusqu’au 12 mai 2016. \n 
URL:https://www.abbaye-du-val-dieu.be/fr/agenda/exposition-du-chemin-de-croix-dandre-simar/
LOCATION:Dans la Basilique
ATTACH;FMTTYPE=image/jpeg:https://www.abbaye-du-val-dieu.be/wp-content/uploads/2016/03/IMG_4703.jpg
END:VEVENT
END:VCALENDAR