BEGIN:VCALENDAR
VERSION:2.0
PRODID:-// - ECPv5.2.1//NONSGML v1.0//EN
CALSCALE:GREGORIAN
METHOD:PUBLISH
X-ORIGINAL-URL:https://www.abbaye-du-val-dieu.be
X-WR-CALDESC:évènements pour 
BEGIN:VTIMEZONE
TZID:Europe/Paris
BEGIN:DAYLIGHT
TZOFFSETFROM:+0100
TZOFFSETTO:+0200
TZNAME:CEST
DTSTART:20180325T010000
END:DAYLIGHT
BEGIN:STANDARD
TZOFFSETFROM:+0200
TZOFFSETTO:+0100
TZNAME:CET
DTSTART:20181028T010000
END:STANDARD
END:VTIMEZONE
BEGIN:VEVENT
DTSTART;TZID=Europe/Paris:20180826T080000
DTEND;TZID=Europe/Paris:20180923T210000
DTSTAMP:20260420T113344
CREATED:20170914T062200Z
LAST-MODIFIED:20180825T192804Z
UID:8488-1535270400-1537736400@www.abbaye-du-val-dieu.be
SUMMARY:Expo "l'art du temps" 21 au 23 septembre 2018
DESCRIPTION:
URL:https://www.abbaye-du-val-dieu.be/fr/agenda/expo-lart-temps-22-24-septembre/
ATTACH;FMTTYPE=image/jpeg:https://www.abbaye-du-val-dieu.be/wp-content/uploads/2018/08/received_5427568361538614554-e1535225009147.jpeg
END:VEVENT
END:VCALENDAR