BEGIN:VCALENDAR
VERSION:2.0
PRODID:-// - ECPv5.2.1//NONSGML v1.0//EN
CALSCALE:GREGORIAN
METHOD:PUBLISH
X-ORIGINAL-URL:https://www.abbaye-du-val-dieu.be
X-WR-CALDESC:évènements pour 
BEGIN:VTIMEZONE
TZID:Europe/Paris
BEGIN:DAYLIGHT
TZOFFSETFROM:+0100
TZOFFSETTO:+0200
TZNAME:CEST
DTSTART:20180325T010000
END:DAYLIGHT
BEGIN:STANDARD
TZOFFSETFROM:+0200
TZOFFSETTO:+0100
TZNAME:CET
DTSTART:20181028T010000
END:STANDARD
END:VTIMEZONE
BEGIN:VEVENT
DTSTART;TZID=Europe/Paris:20181215T080000
DTEND;TZID=Europe/Paris:20181223T060000
DTSTAMP:20260420T230805
CREATED:20181203T103130Z
LAST-MODIFIED:20181211T083041Z
UID:8764-1544860800-1545544800@www.abbaye-du-val-dieu.be
SUMMARY:Concours le patrimoine préféré des Wallons
DESCRIPTION:Aidez-nous à devenir le «Patrimoine préféré des Wallons» !\nL’Abbaye du Val-Dieu a été sélectionnée pour devenir le patrimoine préféré des Wallons dans la catégorie «Patrimoine secret». \nLes votes sont ouverts du 15/12 au 22/12\, et vous pouvez même voter tous les jours sur le site suivant : https://www.lavenir.net/patrimoine-wallon \nEn participant à ce concours\, vous pourrez même peut-être gagner un week-end en famille au Moulin de Ligneuville\, alors n’hésitez plus et votez pour nous !
URL:https://www.abbaye-du-val-dieu.be/fr/agenda/concours-patrimoine-prefere-wallons/
ATTACH;FMTTYPE=image/png:https://www.abbaye-du-val-dieu.be/wp-content/uploads/2018/12/Patrimoine-préféré-des-wallons.png
END:VEVENT
END:VCALENDAR