BEGIN:VCALENDAR
VERSION:2.0
PRODID:-// - ECPv5.2.1//NONSGML v1.0//EN
CALSCALE:GREGORIAN
METHOD:PUBLISH
X-ORIGINAL-URL:https://www.abbaye-du-val-dieu.be
X-WR-CALDESC:évènements pour 
BEGIN:VTIMEZONE
TZID:Europe/Paris
BEGIN:DAYLIGHT
TZOFFSETFROM:+0100
TZOFFSETTO:+0200
TZNAME:CEST
DTSTART:20190331T010000
END:DAYLIGHT
BEGIN:STANDARD
TZOFFSETFROM:+0200
TZOFFSETTO:+0100
TZNAME:CET
DTSTART:20191027T010000
END:STANDARD
END:VTIMEZONE
BEGIN:VEVENT
DTSTART;TZID=Europe/Paris:20190524T200000
DTEND;TZID=Europe/Paris:20190524T230000
DTSTAMP:20260425T150013
CREATED:20180419T082334Z
LAST-MODIFIED:20180828T090518Z
UID:8694-1558728000-1558738800@www.abbaye-du-val-dieu.be
SUMMARY:Concerts du printemps : 24 mai 2019 à 20h
DESCRIPTION:Le vendredi 24 mai 2019 à 20h dans la Basilique de l’Abbaye du Val-Dieu\nInfos et réservation à partir du 8 mai 2019 sur:\nhttp://www.concertsduprintemps.be/\nconcertsduprintemps@aubel.be
URL:https://www.abbaye-du-val-dieu.be/fr/agenda/concerts-printemps-quatuor-van-kuijk/
ATTACH;FMTTYPE=image/jpeg:https://www.abbaye-du-val-dieu.be/wp-content/uploads/2018/04/GENERAL.jpg
END:VEVENT
END:VCALENDAR