BEGIN:VCALENDAR
VERSION:2.0
PRODID:-// - ECPv5.2.1//NONSGML v1.0//EN
CALSCALE:GREGORIAN
METHOD:PUBLISH
X-ORIGINAL-URL:https://www.abbaye-du-val-dieu.be
X-WR-CALDESC:évènements pour 
BEGIN:VTIMEZONE
TZID:Europe/Paris
BEGIN:DAYLIGHT
TZOFFSETFROM:+0100
TZOFFSETTO:+0200
TZNAME:CEST
DTSTART:20160327T010000
END:DAYLIGHT
BEGIN:STANDARD
TZOFFSETFROM:+0200
TZOFFSETTO:+0100
TZNAME:CET
DTSTART:20161030T010000
END:STANDARD
END:VTIMEZONE
BEGIN:VEVENT
DTSTART;TZID=Europe/Paris:20160430T130000
DTEND;TZID=Europe/Paris:20160522T180000
DTSTAMP:20260425T190309
CREATED:20160412T130013Z
LAST-MODIFIED:20160421T104258Z
UID:7829-1462021200-1463940000@www.abbaye-du-val-dieu.be
SUMMARY:13ème Edition de Matières & Sculptures
DESCRIPTION:Chaque année\, l’ambiance magique des caves voûtées accueille une exposition de sculptures contemporaines. \nSept artistes provenant de Belgique et France\, vous propose une sélection de plus de 100 sculptures aux matières diversifiées. \nVous découvrirez des sculptures pour l’intérieur et l’extérieur en verre\, bois\, polyester\, papier\, raku\, porcelaine et bronze. \nEntrée libre du 30 avril au 22 mai dans les caves voûtées de l’Abbaye du Val Dieu.\nLes samedis\, dimanches & jours fériées (05\, 06 & 16/05) de 13h à 18h \nLes artistes de cette 13ème Edition : Luc Dethier\, Didier Maghe\, Christophe Genard\, Marc Laffolay\, Nouche\, Nathalie Matis\, Laure Krug. \nOuvert de 13h à 18h les samedis et dimanches du 30 avril au 22 mai ainsi que les 5\, 6 et 16 mai de 13h à 18h. \nInfos :\n0477 735 920\nwww.artnpepper.com
URL:https://www.abbaye-du-val-dieu.be/fr/agenda/13eme-edition-de-matieres-sculptures/
LOCATION:Caves de l’Abbaye
ATTACH;FMTTYPE=image/jpeg:https://www.abbaye-du-val-dieu.be/wp-content/uploads/2016/04/Mailing-VAL-DIEU-Copie.jpg
END:VEVENT
END:VCALENDAR